Workbook

Sheet 自社障害者雇用の属性
B2: 送付先
B3: 特定非営利活動法人
B4: 障がい者ダイバーシティ研究会 事務局 御中
B6: 下記１、「自社障害者雇用の属性」にㇾ/●点記載、
B7: 下記２、「その障害属性入力検索結果」の両方をお客様PC上「一時保存」（A）ください。
D8: 記
B9: 日 付 | C9: ２０２０ 年 | D9: 月 | E9: 日
B10: 〒 住 所
B11: 企業名又は法人名
B12: 担当部署
B13: 氏 名
B14: メールアドレス
B15: 電話番号 | O15: 障害種別
L16: 結果
B17: 上記住所、企業名、メールアドレス、電話番号等は、非公開です。 | L17: FALSE | M17: =IF(L17=FALSE,"",O17) | O17: 身体障害
B18: 他社個人基礎情報」「合理的配慮提供改善共有シート」事例集自由にご活用下さい。 | L18: FALSE | M18: =IF(L18=FALSE,"",O18) | O18: 知的障害
B19: 不明な点がありましたら上記事務局にご連絡ください。 | L19: TRUE | M19: =IF(L19=FALSE,"",O19) -> 精神障害 | O19: 精神障害
L20: FALSE | M20: =IF(L20=FALSE,"",O20) | O20: 高次脳機能障害
D21: 「自社障害者雇用の属性」 | L21: FALSE | M21: =IF(L21=FALSE,"",O21) | O21: 難病障害
L22: FALSE | M22: =IF(L22=FALSE,"",O22) | O22: 発達障害
B23: 障害種別 | L23: FALSE | M23: =IF(L23=FALSE,"",O23) | O23: その他
O27: 企業規模別 | V27: 支援機関
B28: 企業規模別 | L28: 結果 | O28: 1 | P28: 43人以下 | S28: 結果 | V28: 1 | W28: 特別支援学校
L29: 1 | M29: =VLOOKUP(L29,$O$28:$P$35,2,FALSE) -> 43人以下 | O29: 2 | P29: 44人～100人 | S29: 1 | T29: =VLOOKUP(S29,$V$28:$W$32,2,FALSE) -> 特別支援学校 | V29: 2 | W29: 就労支援センター
O30: 3 | P30: 101人～300人 | V30: 3 | W30: 継続就労支援A型
O31: 4 | P31: 301人～500人 | V31: 4 | W31: 就業・生活支援センター
O32: 5 | P32: 特例子会社 | V32: 5 | W32: 就労移行支援事業所
B33: 支援機関 | O33: 6 | P33: 5001人以上
O34: 7 | P34: 1001人～5000人
O35: 8 | P35: 501人～1000人
B38: 産業別 | O38: 産業別 | V38: 地域別
L39: 結果 | O39: 1 | P39: 農業・林業 | S39: 結果 | V39: 1 | W39: 北海道
L40: 1 | M40: =VLOOKUP(L40,$O$39:$P$54,2,FALSE) -> 農業・林業 | O40: 2 | P40: 製造業 | S40: 1 | T40: =VLOOKUP(S40,$V$39:$W$66,2,FALSE) -> 北海道 | V40: 2 | W40: 福島県
O41: 3 | P41: 卸売・小売業 | V41: 3 | W41: 東京都
O42: 4 | P42: 教育・学習支援業 | V42: 4 | W42: 京都府・滋賀県
O43: 5 | P43: 漁業 | V43: 5 | W43: 三重県
O44: 6 | P44: 電気・ガス水道業 | V44: 6 | W44: 広島県・山口県
O45: 7 | P45: 金融・保険業 | V45: 7 | W45: 福岡県・佐賀県
O46: 8 | P46: 医療・福祉 | V46: 8 | W46: 青森県・岩手県
B47: 地域別 | O47: 9 | P47: 鉱業 | V47: 9 | W47: 秋田県・山形県
O48: 10 | P48: 情報通信業 | V48: 10 | W48: 宮城県
O49: 11 | P49: 不動産・物品賃貸業 | V49: 11 | W49: 群馬県・栃木県
O50: 12 | P50: 複合サービス業 | V50: 12 | W50: 神奈川県
O51: 13 | P51: 建設業 | V51: 13 | W51: 岐阜県・福井県
O52: 14 | P52: 運輸・郵便業 | V52: 14 | W52: 奈良県・和歌山県
O53: 15 | P53: 宿泊・飲食サービス業 | V53: 15 | W53: 鳥取県・島根県
O54: 16 | P54: サービス業 | V54: 16 | W54: 大分県・宮崎県
V55: 17 | W55: 埼玉県
V56: 18 | W56: 新潟県・長野県
V57: 19 | W57: 静岡県・山梨県
V58: 20 | W58: 大阪府
V59: 21 | W59: 高知県・愛媛県
V60: 22 | W60: 熊本県・長崎県
V61: 23 | W61: 千葉県・茨城県
V62: 24 | W62: 富山県・石川県
V63: 25 | W63: 愛知県
V64: 26 | W64: 兵庫県・岡山県
V65: 27 | W65: 鹿児島県・沖縄県
V66: 28 | W66: 徳島県・香川県

Sheet その障害属性入力検索結果
E4: 障害属性入力検索結果
B6: 障害種別 | E6: =自社障害者雇用の属性!M17 | F6: =自社障害者雇用の属性!M18 | G6: =自社障害者雇用の属性!M19 -> 精神障害
E7: =自社障害者雇用の属性!M20 | F7: =自社障害者雇用の属性!M21 | G7: =自社障害者雇用の属性!M22 | H7: =自社障害者雇用の属性!M23
B9: 企業規模別 | E9: =自社障害者雇用の属性!M29 -> 43人以下
B12: 支援機関 | E12: =自社障害者雇用の属性!T29 -> 特別支援学校
B15: 産業別 | E15: =自社障害者雇用の属性!M40 -> 農業・林業
B18: 地域別 | E18: =自社障害者雇用の属性!T40 -> 北海道
